Package: a4Classif Version: 1.54.0 Command: /home/biocbuild/bbs-3.20-bioc/R/bin/R CMD INSTALL a4Classif StartedAt: 2025-02-03 15:52:44 -0500 (Mon, 03 Feb 2025) EndedAt: 2025-02-03 15:52:50 -0500 (Mon, 03 Feb 2025) EllapsedTime: 7.0 seconds RetCode: 0 Status: OK