Package: a4Classif Version: 1.54.0 Command: /Library/Frameworks/R.framework/Resources/bin/R CMD INSTALL a4Classif StartedAt: 2025-02-03 17:16:56 -0500 (Mon, 03 Feb 2025) EndedAt: 2025-02-03 17:17:04 -0500 (Mon, 03 Feb 2025) EllapsedTime: 8.0 seconds RetCode: 0 Status: OK