Package: a4Classif Version: 1.54.0 Command: /Library/Frameworks/R.framework/Resources/bin/R CMD build --keep-empty-dirs --no-resave-data a4Classif StartedAt: 2025-01-27 18:29:54 -0500 (Mon, 27 Jan 2025) EndedAt: 2025-01-27 18:30:31 -0500 (Mon, 27 Jan 2025) EllapsedTime: 36.7 seconds RetCode: 0 Status: OK PackageFile: a4Classif_1.54.0.tar.gz PackageFileSize: 630.9 KiB