Package: a4Base Version: 1.54.0 Command: F:\biocbuild\bbs-3.20-bioc\R\bin\R.exe CMD INSTALL a4Base StartedAt: 2025-01-27 16:44:37 -0500 (Mon, 27 Jan 2025) EndedAt: 2025-01-27 16:45:14 -0500 (Mon, 27 Jan 2025) EllapsedTime: 37.6 seconds RetCode: 0 Status: OK