Package: a4Base Version: 1.54.0 Command: /Library/Frameworks/R.framework/Resources/bin/R CMD INSTALL a4Base StartedAt: 2025-01-27 16:24:29 -0500 (Mon, 27 Jan 2025) EndedAt: 2025-01-27 16:25:15 -0500 (Mon, 27 Jan 2025) EllapsedTime: 46.7 seconds RetCode: 0 Status: OK