Package: a4Base Version: 1.54.0 Command: /Library/Frameworks/R.framework/Resources/bin/R CMD build --keep-empty-dirs --no-resave-data a4Base StartedAt: 2025-01-27 16:57:01 -0500 (Mon, 27 Jan 2025) EndedAt: 2025-01-27 16:57:04 -0500 (Mon, 27 Jan 2025) EllapsedTime: 2.3 seconds RetCode: 0 Status: OK PackageFile: a4Base_1.54.0.tar.gz PackageFileSize: 366.5 KiB