Package: a4Base Version: 1.54.0 Command: /Library/Frameworks/R.framework/Resources/bin/R CMD INSTALL a4Base StartedAt: 2025-01-27 17:30:47 -0500 (Mon, 27 Jan 2025) EndedAt: 2025-01-27 17:31:11 -0500 (Mon, 27 Jan 2025) EllapsedTime: 23.8 seconds RetCode: 0 Status: OK