Package: a4Base Version: 1.54.0 Command: /Library/Frameworks/R.framework/Resources/bin/R CMD build --keep-empty-dirs --no-resave-data a4Base StartedAt: 2025-03-31 18:23:25 -0400 (Mon, 31 Mar 2025) EndedAt: 2025-03-31 18:23:26 -0400 (Mon, 31 Mar 2025) EllapsedTime: 1.2 seconds RetCode: 0 Status: OK PackageFile: a4Base_1.54.0.tar.gz PackageFileSize: 366.5 KiB