Package: a4Base Version: 1.54.0 Command: rm -rf a4Base.buildbin-libdir && mkdir a4Base.buildbin-libdir && /Users/biocbuild/BBS/utils/build-universal.sh a4Base_1.54.0.tar.gz /Library/Frameworks/R.framework/Resources/bin/R a4Base.buildbin-libdir StartedAt: 2025-04-02 13:12:40 -0400 (Wed, 02 Apr 2025) EndedAt: 2025-04-02 13:13:08 -0400 (Wed, 02 Apr 2025) EllapsedTime: 27.5 seconds RetCode: 0 Status: OK PackageFile: a4Base_1.54.0.tgz PackageFileSize: 570.7 KiB