Package: a4 Version: 1.54.0 Command: /home/biocbuild/bbs-3.20-bioc/R/bin/R CMD INSTALL a4 StartedAt: 2025-03-31 15:48:23 -0400 (Mon, 31 Mar 2025) EndedAt: 2025-03-31 15:48:41 -0400 (Mon, 31 Mar 2025) EllapsedTime: 18.1 seconds RetCode: 0 Status: OK