Package: ZygosityPredictor Version: 1.6.0 Command: /home/biocbuild/R/R/bin/R CMD INSTALL ZygosityPredictor StartedAt: 2025-03-31 20:34:05 -0000 (Mon, 31 Mar 2025) EndedAt: 2025-03-31 20:34:56 -0000 (Mon, 31 Mar 2025) EllapsedTime: 50.7 seconds RetCode: 0 Status: OK