Package: ZygosityPredictor Version: 1.6.0 Command: /home/biocbuild/R/R/bin/R CMD build --keep-empty-dirs --no-resave-data ZygosityPredictor StartedAt: 2025-04-01 03:33:12 -0000 (Tue, 01 Apr 2025) EndedAt: 2025-04-01 03:34:31 -0000 (Tue, 01 Apr 2025) EllapsedTime: 79.8 seconds RetCode: 0 Status: OK PackageFile: ZygosityPredictor_1.6.0.tar.gz PackageFileSize: 848 KiB