Package: ZygosityPredictor Version: 1.6.0 Command: chmod a+r ZygosityPredictor -R && F:\biocbuild\bbs-3.20-bioc\R\bin\R.exe CMD build --keep-empty-dirs --no-resave-data ZygosityPredictor StartedAt: 2025-03-31 22:38:37 -0400 (Mon, 31 Mar 2025) EndedAt: 2025-03-31 22:40:01 -0400 (Mon, 31 Mar 2025) EllapsedTime: 84.0 seconds RetCode: 0 Status: OK PackageFile: ZygosityPredictor_1.6.0.tar.gz PackageFileSize: 823.1 KiB