Package: ZygosityPredictor Version: 1.6.0 Command: rm -rf ZygosityPredictor.buildbin-libdir && mkdir ZygosityPredictor.buildbin-libdir && F:\biocbuild\bbs-3.20-bioc\R\bin\R.exe CMD INSTALL --build --library=ZygosityPredictor.buildbin-libdir ZygosityPredictor_1.6.0.tar.gz StartedAt: 2025-04-01 09:30:09 -0400 (Tue, 01 Apr 2025) EndedAt: 2025-04-01 09:31:01 -0400 (Tue, 01 Apr 2025) EllapsedTime: 51.7 seconds RetCode: 0 Status: OK PackageFile: ZygosityPredictor_1.6.0.zip PackageFileSize: 985.5 KiB