Package: YAPSA Version: 1.32.0 Command: /home/biocbuild/R/R/bin/R CMD INSTALL YAPSA StartedAt: 2025-02-03 21:00:42 -0000 (Mon, 03 Feb 2025) EndedAt: 2025-02-03 21:01:59 -0000 (Mon, 03 Feb 2025) EllapsedTime: 76.6 seconds RetCode: 0 Status: OK