Package: YAPSA Version: 1.32.0 Command: /home/biocbuild/R/R/bin/R CMD build --keep-empty-dirs --no-resave-data YAPSA StartedAt: 2025-02-04 03:55:55 -0000 (Tue, 04 Feb 2025) EndedAt: 2025-02-04 04:01:58 -0000 (Tue, 04 Feb 2025) EllapsedTime: 363.1 seconds RetCode: 0 Status: OK PackageFile: YAPSA_1.32.0.tar.gz PackageFileSize: 3.101 MiB