Package: Xeva Version: 1.22.1 Command: /Library/Frameworks/R.framework/Resources/bin/R CMD build --keep-empty-dirs --no-resave-data Xeva StartedAt: 2025-03-31 22:54:14 -0400 (Mon, 31 Mar 2025) EndedAt: 2025-03-31 22:56:26 -0400 (Mon, 31 Mar 2025) EllapsedTime: 132.6 seconds RetCode: 0 Status: OK PackageFile: Xeva_1.22.1.tar.gz PackageFileSize: 1.571 MiB