Package: Xeva Version: 1.22.0 Command: rm -rf Xeva.buildbin-libdir && mkdir Xeva.buildbin-libdir && /Users/biocbuild/BBS/utils/build-universal.sh Xeva_1.22.0.tar.gz /Library/Frameworks/R.framework/Resources/bin/R Xeva.buildbin-libdir StartedAt: 2025-01-29 17:04:58 -0500 (Wed, 29 Jan 2025) EndedAt: 2025-01-29 17:05:44 -0500 (Wed, 29 Jan 2025) EllapsedTime: 45.8 seconds RetCode: 0 Status: OK PackageFile: Xeva_1.22.0.tgz PackageFileSize: 1.44 MiB