Package: XVector Version: 0.46.0 Command: /home/biocbuild/R/R/bin/R CMD build --keep-empty-dirs --no-resave-data XVector StartedAt: 2025-02-04 03:55:37 -0000 (Tue, 04 Feb 2025) EndedAt: 2025-02-04 03:55:39 -0000 (Tue, 04 Feb 2025) EllapsedTime: 2.0 seconds RetCode: 0 Status: OK PackageFile: XVector_0.46.0.tar.gz PackageFileSize: 66.27 KiB