Package: XVector Version: 0.46.0 Command: F:\biocbuild\bbs-3.20-bioc\R\bin\R.exe CMD INSTALL XVector StartedAt: 2025-01-27 15:37:10 -0500 (Mon, 27 Jan 2025) EndedAt: 2025-01-27 15:38:41 -0500 (Mon, 27 Jan 2025) EllapsedTime: 90.1 seconds RetCode: 0 Status: OK