Package: XVector Version: 0.46.0 Command: /home/biocbuild/bbs-3.20-bioc/R/bin/R CMD INSTALL XVector StartedAt: 2025-02-03 15:16:53 -0500 (Mon, 03 Feb 2025) EndedAt: 2025-02-03 15:17:07 -0500 (Mon, 03 Feb 2025) EllapsedTime: 13.7 seconds RetCode: 0 Status: OK