Package: XVector Version: 0.46.0 Command: /home/biocbuild/bbs-3.20-bioc/R/bin/R CMD check --install=check:XVector.install-out.txt --library=/home/biocbuild/bbs-3.20-bioc/R/site-library --timings XVector_0.46.0.tar.gz StartedAt: 2025-02-04 03:38:21 -0500 (Tue, 04 Feb 2025) EndedAt: 2025-02-04 03:39:24 -0500 (Tue, 04 Feb 2025) EllapsedTime: 63.1 seconds RetCode: 0 Status: WARNINGS CheckDir: XVector.Rcheck Warnings: 2