Package: XVector Version: 0.46.0 Command: /Library/Frameworks/R.framework/Resources/bin/R CMD INSTALL XVector StartedAt: 2025-02-10 15:09:14 -0500 (Mon, 10 Feb 2025) EndedAt: 2025-02-10 15:10:06 -0500 (Mon, 10 Feb 2025) EllapsedTime: 52.1 seconds RetCode: 0 Status: OK