Package: XVector Version: 0.46.0 Command: rm -rf XVector.buildbin-libdir && mkdir XVector.buildbin-libdir && /Users/biocbuild/BBS/utils/build-universal.sh XVector_0.46.0.tar.gz /Library/Frameworks/R.framework/Resources/bin/R XVector.buildbin-libdir StartedAt: 2025-02-11 14:48:29 -0500 (Tue, 11 Feb 2025) EndedAt: 2025-02-11 14:49:09 -0500 (Tue, 11 Feb 2025) EllapsedTime: 39.5 seconds RetCode: 0 Status: OK PackageFile: XVector_0.46.0.tgz PackageFileSize: 618.9 KiB