Package: XNAString Version: 1.14.0 Command: /home/biocbuild/R/R/bin/R CMD INSTALL XNAString StartedAt: 2025-01-27 21:35:18 -0000 (Mon, 27 Jan 2025) EndedAt: 2025-01-27 21:37:41 -0000 (Mon, 27 Jan 2025) EllapsedTime: 142.6 seconds RetCode: 0 Status: OK