Package: XNAString Version: 1.14.0 Command: F:\biocbuild\bbs-3.20-bioc\R\bin\R.exe CMD INSTALL XNAString StartedAt: 2025-01-27 16:13:33 -0500 (Mon, 27 Jan 2025) EndedAt: 2025-01-27 16:16:50 -0500 (Mon, 27 Jan 2025) EllapsedTime: 197.4 seconds RetCode: 0 Status: OK