Package: XNAString Version: 1.14.0 Command: /Library/Frameworks/R.framework/Resources/bin/R CMD build --keep-empty-dirs --no-resave-data XNAString StartedAt: 2025-03-31 22:54:32 -0400 (Mon, 31 Mar 2025) EndedAt: 2025-03-31 22:59:09 -0400 (Mon, 31 Mar 2025) EllapsedTime: 276.8 seconds RetCode: 0 Status: OK PackageFile: XNAString_1.14.0.tar.gz PackageFileSize: 1.631 MiB