Package: XNAString Version: 1.14.0 Command: /Library/Frameworks/R.framework/Resources/bin/R CMD INSTALL XNAString StartedAt: 2025-01-27 16:37:49 -0500 (Mon, 27 Jan 2025) EndedAt: 2025-01-27 16:40:46 -0500 (Mon, 27 Jan 2025) EllapsedTime: 177.1 seconds RetCode: 0 Status: OK