Package: XNAString Version: 1.14.0 Command: /Library/Frameworks/R.framework/Resources/bin/R CMD build --keep-empty-dirs --no-resave-data XNAString StartedAt: 2025-01-28 10:19:13 -0500 (Tue, 28 Jan 2025) EndedAt: 2025-01-28 10:23:10 -0500 (Tue, 28 Jan 2025) EllapsedTime: 236.4 seconds RetCode: 0 Status: OK PackageFile: XNAString_1.14.0.tar.gz PackageFileSize: 1.631 MiB