Package: XINA Version: 1.24.0 Command: rm -rf XINA.buildbin-libdir && mkdir XINA.buildbin-libdir && F:\biocbuild\bbs-3.20-bioc\R\bin\R.exe CMD INSTALL --build --library=XINA.buildbin-libdir XINA_1.24.0.tar.gz StartedAt: 2025-01-28 09:24:18 -0500 (Tue, 28 Jan 2025) EndedAt: 2025-01-28 09:24:37 -0500 (Tue, 28 Jan 2025) EllapsedTime: 18.3 seconds RetCode: 0 Status: OK PackageFile: XINA_1.24.0.zip PackageFileSize: 1.337 MiB