Package: XDE Version: 2.52.0 Command: /home/biocbuild/bbs-3.20-bioc/R/bin/R CMD check --install=check:XDE.install-out.txt --library=/home/biocbuild/bbs-3.20-bioc/R/site-library --timings XDE_2.52.0.tar.gz StartedAt: 2025-01-28 04:20:00 -0500 (Tue, 28 Jan 2025) EndedAt: 2025-01-28 04:22:56 -0500 (Tue, 28 Jan 2025) EllapsedTime: 175.2 seconds RetCode: 0 Status: WARNINGS CheckDir: XDE.Rcheck Warnings: 1