Package: XDE Version: 2.52.0 Command: /Library/Frameworks/R.framework/Resources/bin/R CMD INSTALL XDE StartedAt: 2024-11-19 15:38:26 -0500 (Tue, 19 Nov 2024) EndedAt: 2024-11-19 15:39:42 -0500 (Tue, 19 Nov 2024) EllapsedTime: 76.1 seconds RetCode: 0 Status: OK