Package: XDE Version: 2.52.0 Command: /Library/Frameworks/R.framework/Resources/bin/R CMD INSTALL XDE StartedAt: 2025-01-27 17:40:22 -0500 (Mon, 27 Jan 2025) EndedAt: 2025-01-27 17:41:20 -0500 (Mon, 27 Jan 2025) EllapsedTime: 58.2 seconds RetCode: 0 Status: OK