Package: Wrench Version: 1.24.0 Command: /home/biocbuild/R/R/bin/R CMD INSTALL Wrench StartedAt: 2025-01-27 21:06:55 -0000 (Mon, 27 Jan 2025) EndedAt: 2025-01-27 21:07:05 -0000 (Mon, 27 Jan 2025) EllapsedTime: 10.0 seconds RetCode: 0 Status: OK