Package: Wrench Version: 1.24.0 Command: /Library/Frameworks/R.framework/Resources/bin/R CMD build --keep-empty-dirs --no-resave-data Wrench StartedAt: 2025-01-27 23:29:34 -0500 (Mon, 27 Jan 2025) EndedAt: 2025-01-27 23:31:07 -0500 (Mon, 27 Jan 2025) EllapsedTime: 93.1 seconds RetCode: 0 Status: OK PackageFile: Wrench_1.24.0.tar.gz PackageFileSize: 224.7 KiB