Package: Wrench Version: 1.24.0 Command: rm -rf Wrench.buildbin-libdir && mkdir Wrench.buildbin-libdir && /Users/biocbuild/BBS/utils/build-universal.sh Wrench_1.24.0.tar.gz /Library/Frameworks/R.framework/Resources/bin/R Wrench.buildbin-libdir StartedAt: 2025-01-28 14:52:26 -0500 (Tue, 28 Jan 2025) EndedAt: 2025-01-28 14:52:35 -0500 (Tue, 28 Jan 2025) EllapsedTime: 8.7 seconds RetCode: 0 Status: OK PackageFile: Wrench_1.24.0.tgz PackageFileSize: 266.1 KiB