Package: VplotR Version: 1.16.0 Command: rm -rf VplotR.buildbin-libdir && mkdir VplotR.buildbin-libdir && /Users/biocbuild/BBS/utils/build-universal.sh VplotR_1.16.0.tar.gz /Library/Frameworks/R.framework/Resources/bin/R VplotR.buildbin-libdir StartedAt: 2025-04-02 16:47:38 -0400 (Wed, 02 Apr 2025) EndedAt: 2025-04-02 16:48:15 -0400 (Wed, 02 Apr 2025) EllapsedTime: 37.4 seconds RetCode: 0 Status: OK PackageFile: VplotR_1.16.0.tgz PackageFileSize: 5.278 MiB