Package: Voyager Version: 1.8.1 Command: /home/biocbuild/R/R/bin/R CMD INSTALL Voyager StartedAt: 2025-01-27 21:57:31 -0000 (Mon, 27 Jan 2025) EndedAt: 2025-01-27 21:57:32 -0000 (Mon, 27 Jan 2025) EllapsedTime: 1.2 seconds RetCode: 1 Status: ERROR