Package: Voyager Version: 1.8.1 Command: /Library/Frameworks/R.framework/Resources/bin/R CMD INSTALL Voyager StartedAt: 2025-01-30 16:36:10 -0500 (Thu, 30 Jan 2025) EndedAt: 2025-01-30 16:38:11 -0500 (Thu, 30 Jan 2025) EllapsedTime: 120.5 seconds RetCode: 0 Status: OK