Package: Voyager Version: 1.8.1 Command: /Library/Frameworks/R.framework/Resources/bin/R CMD check --install=check:Voyager.install-out.txt --library=/Library/Frameworks/R.framework/Resources/library --no-vignettes --timings Voyager_1.8.1.tar.gz StartedAt: 2025-01-31 11:43:30 -0500 (Fri, 31 Jan 2025) EndedAt: 2025-01-31 12:05:01 -0500 (Fri, 31 Jan 2025) EllapsedTime: 1291.5 seconds RetCode: 0 Status: OK CheckDir: Voyager.Rcheck Warnings: 0