Package: Voyager Version: 1.8.1 Command: /Library/Frameworks/R.framework/Resources/bin/R CMD build --keep-empty-dirs --no-resave-data Voyager StartedAt: 2025-01-30 23:40:44 -0500 (Thu, 30 Jan 2025) EndedAt: 2025-01-30 23:44:39 -0500 (Thu, 30 Jan 2025) EllapsedTime: 235.2 seconds RetCode: 0 Status: OK PackageFile: Voyager_1.8.1.tar.gz PackageFileSize: 4.66 MiB