Package: VisiumIO Version: 1.2.0 Command: /home/biocbuild/R/R/bin/R CMD INSTALL VisiumIO StartedAt: 2025-03-31 20:27:37 -0000 (Mon, 31 Mar 2025) EndedAt: 2025-03-31 20:28:08 -0000 (Mon, 31 Mar 2025) EllapsedTime: 31.2 seconds RetCode: 0 Status: OK