Package: VisiumIO Version: 1.2.0 Command: F:\biocbuild\bbs-3.20-bioc\R\bin\R.exe CMD INSTALL VisiumIO StartedAt: 2025-03-31 16:04:25 -0400 (Mon, 31 Mar 2025) EndedAt: 2025-03-31 16:05:12 -0400 (Mon, 31 Mar 2025) EllapsedTime: 46.9 seconds RetCode: 0 Status: OK