Package: VisiumIO Version: 1.2.0 Command: /Library/Frameworks/R.framework/Resources/bin/R CMD build --keep-empty-dirs --no-resave-data VisiumIO StartedAt: 2025-04-01 09:55:38 -0400 (Tue, 01 Apr 2025) EndedAt: 2025-04-01 09:56:27 -0400 (Tue, 01 Apr 2025) EllapsedTime: 48.8 seconds RetCode: 0 Status: OK PackageFile: VisiumIO_1.2.0.tar.gz PackageFileSize: 1.504 MiB