Package: ViSEAGO Version: 1.20.0 Command: /Library/Frameworks/R.framework/Resources/bin/R CMD check --install=check:ViSEAGO.install-out.txt --library=/Library/Frameworks/R.framework/Resources/library --no-vignettes --timings ViSEAGO_1.20.0.tar.gz StartedAt: 2025-04-02 12:33:00 -0400 (Wed, 02 Apr 2025) EndedAt: 2025-04-02 12:36:16 -0400 (Wed, 02 Apr 2025) EllapsedTime: 195.8 seconds RetCode: 1 Status: ERROR CheckDir: ViSEAGO.Rcheck Warnings: NA