Package: VennDetail Version: 1.22.0 Command: /home/biocbuild/R/R/bin/R CMD INSTALL VennDetail StartedAt: 2025-01-27 21:16:08 -0000 (Mon, 27 Jan 2025) EndedAt: 2025-01-27 21:16:15 -0000 (Mon, 27 Jan 2025) EllapsedTime: 7.3 seconds RetCode: 0 Status: OK