Package: VennDetail Version: 1.22.0 Command: /home/biocbuild/R/R/bin/R CMD build --keep-empty-dirs --no-resave-data VennDetail StartedAt: 2025-01-28 04:04:11 -0000 (Tue, 28 Jan 2025) EndedAt: 2025-01-28 04:04:25 -0000 (Tue, 28 Jan 2025) EllapsedTime: 14.0 seconds RetCode: 0 Status: OK PackageFile: VennDetail_1.22.0.tar.gz PackageFileSize: 367.8 KiB