Package: VennDetail Version: 1.22.0 Command: /Library/Frameworks/R.framework/Resources/bin/R CMD INSTALL VennDetail StartedAt: 2025-03-31 15:48:32 -0400 (Mon, 31 Mar 2025) EndedAt: 2025-03-31 15:48:36 -0400 (Mon, 31 Mar 2025) EllapsedTime: 4.9 seconds RetCode: 0 Status: OK