Package: VennDetail Version: 1.22.0 Command: /Library/Frameworks/R.framework/Resources/bin/R CMD check --install=check:VennDetail.install-out.txt --library=/Library/Frameworks/R.framework/Resources/library --no-vignettes --timings VennDetail_1.22.0.tar.gz StartedAt: 2025-03-22 12:27:09 -0400 (Sat, 22 Mar 2025) EndedAt: 2025-03-22 12:27:55 -0400 (Sat, 22 Mar 2025) EllapsedTime: 46.0 seconds RetCode: 0 Status: OK CheckDir: VennDetail.Rcheck Warnings: 0