Package: VegaMC Version: 3.44.0 Command: /home/biocbuild/R/R/bin/R CMD check --install=check:VegaMC.install-out.txt --library=/home/biocbuild/R/R/site-library --no-vignettes --timings VegaMC_3.44.0.tar.gz StartedAt: 2025-01-28 12:16:08 -0000 (Tue, 28 Jan 2025) EndedAt: 2025-01-28 12:18:07 -0000 (Tue, 28 Jan 2025) EllapsedTime: 119.2 seconds RetCode: 0 Status: WARNINGS CheckDir: VegaMC.Rcheck Warnings: 2